BEGIN:VCALENDAR
VERSION:2.0
PRODID:-//Freundeskreis des Münchner Rundfunkorchesters e.V. - ECPv6.15.17.1//NONSGML v1.0//EN
CALSCALE:GREGORIAN
METHOD:PUBLISH
X-ORIGINAL-URL:https://freunde-mro.de
X-WR-CALDESC:Veranstaltungen für Freundeskreis des Münchner Rundfunkorchesters e.V.
REFRESH-INTERVAL;VALUE=DURATION:PT1H
X-Robots-Tag:noindex
X-PUBLISHED-TTL:PT1H
BEGIN:VTIMEZONE
TZID:Europe/Berlin
BEGIN:DAYLIGHT
TZOFFSETFROM:+0100
TZOFFSETTO:+0200
TZNAME:CEST
DTSTART:20250330T010000
END:DAYLIGHT
BEGIN:STANDARD
TZOFFSETFROM:+0200
TZOFFSETTO:+0100
TZNAME:CET
DTSTART:20251026T010000
END:STANDARD
BEGIN:DAYLIGHT
TZOFFSETFROM:+0100
TZOFFSETTO:+0200
TZNAME:CEST
DTSTART:20260329T010000
END:DAYLIGHT
BEGIN:STANDARD
TZOFFSETFROM:+0200
TZOFFSETTO:+0100
TZNAME:CET
DTSTART:20261025T010000
END:STANDARD
BEGIN:DAYLIGHT
TZOFFSETFROM:+0100
TZOFFSETTO:+0200
TZNAME:CEST
DTSTART:20270328T010000
END:DAYLIGHT
BEGIN:STANDARD
TZOFFSETFROM:+0200
TZOFFSETTO:+0100
TZNAME:CET
DTSTART:20271031T010000
END:STANDARD
END:VTIMEZONE
BEGIN:VEVENT
DTSTART;TZID=Europe/Berlin:20260517T170000
DTEND;TZID=Europe/Berlin:20260517T170000
DTSTAMP:20260422T100138
CREATED:20260204T232230Z
LAST-MODIFIED:20260204T232546Z
UID:3880-1779037200-1779037200@freunde-mro.de
SUMMARY:Klassik in Bayern 2026
DESCRIPTION:Straubing\, Herzogsschloss\, Rittersaal \n\n\n\n\n\nGastkonzerte \n\n\n\nMitwirkende\n\n\n\nRegula Mühlemann Sopran \n\n\n\nMario Martos Nieto Trompete \n\n\n\nMünchner Rundfunkorchester \n\n\n\nIvor Bolton Leitung
URL:https://freunde-mro.de/calendar/klassik-in-bayern-2026-3
END:VEVENT
END:VCALENDAR